Workbook

Sheet Инструкция
C2: Внимание!
C3: Данная таблица позволит вам быстро
C4: подсчитать баллы в практическом и теоретическом задании
C5: на муниципальном этапе ВОШ по физической культуре.
C6: В выделенную красным
C7: ячейку занести лучшее время или баллы показанное на испытанях.
C8: Участников заносим только в протокол "Легкая атлетика",
C9: все автоматически копируется в листы "Гимнастика" и "Теория".
C10: Подсчет производятся по формулам предложенным
C11: в методике для проведения муниципального этапа.
C12: Итоговая сумма на последнем листе.
C13: Удачной работы, коллеги!
... C17: Борисов Александр Иванович

Sheet Легкая атлетика
A1: Фамилия Имя | B1: Школа | C1: Результат | D1: Баллы
A2: Дементьева Кристина | B2: ПСОШ № 1 | C2: 488.2 | D2: =40*H9/C2 -> 40
A3: Борисова Наташа | B3: ПСОШ № 1 | C3: 489.4 | D3: =40*H9/C3 -> 39.901921 | H3: Напоминаю,
D4: =40*H9/C4 -> #DIV/0! | H4: что максимальное количество
D5: =40*H9/C5 -> #DIV/0! | H5: баллов в одном испытании - 40
D6: =40*H9/C6 -> #DIV/0!
D7: =40*H9/C7 -> #DIV/0!
D8: =40*H9/C8 -> #DIV/0! | H8: Введите лучший результат в испытании
D9: =40*H9/C9 -> #DIV/0! | H9: 488.2
D10: =40*H9/C10 -> #DIV/0!
D11: =40*H9/C11 -> #DIV/0! | H11: Легкая атлетика, Бег 2000 м.
D12: =40*H9/C12 -> #DIV/0!
D13: =40*H9/C13 -> #DIV/0!
D14: =40*H9/C14 -> #DIV/0!
D15: =40*H9/C15 -> #DIV/0!
D16: =40*H9/C16 -> #DIV/0!
D17: =40*H9/C17 -> #DIV/0!
D18: =40*H9/C18 -> #DIV/0!
D19: =40*H9/C19 -> #DIV/0!
D20: =40*H9/C20 -> #DIV/0!
D21: =40*H9/C21 -> #DIV/0!
D22: =40*H9/C22 -> #DIV/0!
D23: =40*H9/C23 -> #DIV/0!

Sheet Гимнастика
A1: Фамилия Имя | B1: Школа | C1: Результат | D1: Баллы
A2: ='Легкая атлетика'!A2 -> Дементьева Кристина | B2: ='Легкая атлетика'!B2 -> ПСОШ № 1 | C2: 10 | D2: =40*C2/H9 -> 40
A3: ='Легкая атлетика'!A3 -> Борисова Наташа | B3: ='Легкая атлетика'!B3 -> ПСОШ № 1 | C3: 9 | D3: =40*C3/H9 -> 36 | H3: Напоминаю,
A4: ='Легкая атлетика'!A4 -> 0 | B4: ='Легкая атлетика'!B4 -> 0 | D4: =40*C4/H9 -> 0 | H4: что максимальное количество
A5: ='Легкая атлетика'!A5 -> 0 | B5: ='Легкая атлетика'!B5 -> 0 | D5: =40*C5/H9 -> 0 | H5: баллов в одном испытании - 40
A6: ='Легкая атлетика'!A6 -> 0 | B6: ='Легкая атлетика'!B6 -> 0 | D6: =40*C6/H9 -> 0
A7: ='Легкая атлетика'!A7 -> 0 | B7: ='Легкая атлетика'!B7 -> 0 | D7: =40*C7/H9 -> 0
A8: ='Легкая атлетика'!A8 -> 0 | B8: ='Легкая атлетика'!B8 -> 0 | D8: =40*C8/H9 -> 0 | H8: Введите лучший результат в испытании
A9: ='Легкая атлетика'!A9 -> 0 | B9: ='Легкая атлетика'!B9 -> 0 | D9: =40*C9/H9 -> 0 | H9: 10
A10: ='Легкая атлетика'!A10 -> 0 | B10: ='Легкая атлетика'!B10 -> 0 | D10: =40*C10/H9 -> 0
A11: ='Легкая атлетика'!A11 -> 0 | B11: ='Легкая атлетика'!B11 -> 0 | D11: =40*C11/H9 -> 0 | H11: Гимнастика
A12: ='Легкая атлетика'!A12 -> 0 | B12: ='Легкая атлетика'!B12 -> 0 | D12: =40*C12/H9 -> 0
A13: ='Легкая атлетика'!A13 -> 0 | B13: ='Легкая атлетика'!B13 -> 0 | D13: =40*C13/H9 -> 0
A14: ='Легкая атлетика'!A14 -> 0 | B14: ='Легкая атлетика'!B14 -> 0 | D14: =40*C14/H9 -> 0
A15: ='Легкая атлетика'!A15 -> 0 | B15: ='Легкая атлетика'!B15 -> 0 | D15: =40*C15/H9 -> 0
A16: ='Легкая атлетика'!A16 -> 0 | B16: ='Легкая атлетика'!B16 -> 0 | D16: =40*C16/H9 -> 0
A17: ='Легкая атлетика'!A17 -> 0 | B17: ='Легкая атлетика'!B17 -> 0 | D17: =40*C17/H9 -> 0
A18: ='Легкая атлетика'!A18 -> 0 | B18: ='Легкая атлетика'!B18 -> 0 | D18: =40*C18/H9 -> 0
A19: ='Легкая атлетика'!A19 -> 0 | B19: ='Легкая атлетика'!B19 -> 0 | D19: =40*C19/H9 -> 0
A20: ='Легкая атлетика'!A20 -> 0 | B20: ='Легкая атлетика'!B20 -> 0 | D20: =40*C20/H9 -> 0
A21: ='Легкая атлетика'!A21 -> 0 | B21: ='Легкая атлетика'!B21 -> 0 | D21: =40*C21/H9 -> 0
A22: ='Легкая атлетика'!A22 -> 0 | B22: ='Легкая атлетика'!B22 -> 0 | D22: =40*C22/H9 -> 0
A23: ='Легкая атлетика'!A23 -> 0 | B23: ='Легкая атлетика'!B23 -> 0 | D23: =40*C23/H9 -> 0

Sheet Теория
A1: Фамилия Имя | B1: Школа | C1: Результат | D1: Баллы
A2: ='Легкая атлетика'!A2 -> Дементьева Кристина | B2: ='Легкая атлетика'!B2 -> ПСОШ № 1 | C2: 20 | D2: =30*C2/H9 -> 25
A3: ='Легкая атлетика'!A3 -> Борисова Наташа | B3: ='Легкая атлетика'!B3 -> ПСОШ № 1 | C3: 19 | D3: =30*C3/H9 -> 23.75 | H3: Напоминаю,
A4: ='Легкая атлетика'!A4 -> 0 | B4: ='Легкая атлетика'!B4 -> 0 | D4: =30*C4/H9 -> 0 | H4: что максимальное количество
A5: ='Легкая атлетика'!A5 -> 0 | B5: ='Легкая атлетика'!B5 -> 0 | D5: =30*C5/H9 -> 0 | H5: баллов в теории - 30
A6: ='Легкая атлетика'!A6 -> 0 | B6: ='Легкая атлетика'!B6 -> 0 | D6: =30*C6/H9 -> 0
A7: ='Легкая атлетика'!A7 -> 0 | B7: ='Легкая атлетика'!B7 -> 0 | D7: =30*C7/H9 -> 0
A8: ='Легкая атлетика'!A8 -> 0 | B8: ='Легкая атлетика'!B8 -> 0 | D8: =30*C8/H9 -> 0 | H8: Введите лучший результат в испытании
A9: ='Легкая атлетика'!A9 -> 0 | B9: ='Легкая атлетика'!B9 -> 0 | D9: =30*C9/H9 -> 0 | H9: 24
A10: ='Легкая атлетика'!A10 -> 0 | B10: ='Легкая атлетика'!B10 -> 0 | D10: =30*C10/H9 -> 0
A11: ='Легкая атлетика'!A11 -> 0 | B11: ='Легкая атлетика'!B11 -> 0 | D11: =30*C11/H9 -> 0 | H11: Теория
A12: ='Легкая атлетика'!A12 -> 0 | B12: ='Легкая атлетика'!B12 -> 0 | D12: =30*C12/H9 -> 0
A13: ='Легкая атлетика'!A13 -> 0 | B13: ='Легкая атлетика'!B13 -> 0 | D13: =30*C13/H9 -> 0
A14: ='Легкая атлетика'!A14 -> 0 | B14: ='Легкая атлетика'!B14 -> 0 | D14: =30*C14/H9 -> 0
A15: ='Легкая атлетика'!A15 -> 0 | B15: ='Легкая атлетика'!B15 -> 0 | D15: =30*C15/H9 -> 0
A16: ='Легкая атлетика'!A16 -> 0 | B16: ='Легкая атлетика'!B16 -> 0 | D16: =30*C16/H9 -> 0
A17: ='Легкая атлетика'!A17 -> 0 | B17: ='Легкая атлетика'!B17 -> 0 | D17: =30*C17/H9 -> 0
A18: ='Легкая атлетика'!A18 -> 0 | B18: ='Легкая атлетика'!B18 -> 0 | D18: =30*C18/H9 -> 0
A19: ='Легкая атлетика'!A19 -> 0 | B19: ='Легкая атлетика'!B19 -> 0 | D19: =30*C19/H9 -> 0
A20: ='Легкая атлетика'!A20 -> 0 | B20: ='Легкая атлетика'!B20 -> 0 | D20: =30*C20/H9 -> 0
A21: ='Легкая атлетика'!A21 -> 0 | B21: ='Легкая атлетика'!B21 -> 0 | D21: =30*C21/H9 -> 0
A22: ='Легкая атлетика'!A22 -> 0 | B22: ='Легкая атлетика'!B22 -> 0 | D22: =30*C22/H9 -> 0
A23: ='Легкая атлетика'!A23 -> 0 | B23: ='Легкая атлетика'!B23 -> 0 | D23: =30*C23/H9 -> 0

Sheet Сумма баллов
B1: Фамилия Имя | C1: Школа | D1: Сумма баллов
B2: ='Легкая атлетика'!A2 -> Дементьева Кристина | C2: ='Легкая атлетика'!B2 -> ПСОШ № 1 | D2: ='Легкая атлетика'!D2+Гимнастика!D2+Теория!D2 -> 105
B3: ='Легкая атлетика'!A3 -> Борисова Наташа | C3: ='Легкая атлетика'!B3 -> ПСОШ № 1 | D3: ='Легкая атлетика'!D3+Гимнастика!D3+Теория!D3 -> 99.651921
B4: ='Легкая атлетика'!A4 -> 0 | C4: ='Легкая атлетика'!B4 -> 0 | D4: ='Легкая атлетика'!D4+Гимнастика!D4+Теория!D4 -> #DIV/0!
B5: ='Легкая атлетика'!A5 -> 0 | C5: ='Легкая атлетика'!B5 -> 0 | D5: ='Легкая атлетика'!D5+Гимнастика!D5+Теория!D5 -> #DIV/0!
B6: ='Легкая атлетика'!A6 -> 0 | C6: ='Легкая атлетика'!B6 -> 0 | D6: ='Легкая атлетика'!D6+Гимнастика!D6+Теория!D6 -> #DIV/0!
B7: ='Легкая атлетика'!A7 -> 0 | C7: ='Легкая атлетика'!B7 -> 0 | D7: ='Легкая атлетика'!D7+Гимнастика!D7+Теория!D7 -> #DIV/0!
B8: ='Легкая атлетика'!A8 -> 0 | C8: ='Легкая атлетика'!B8 -> 0 | D8: ='Легкая атлетика'!D8+Гимнастика!D8+Теория!D8 -> #DIV/0!
B9: ='Легкая атлетика'!A9 -> 0 | C9: ='Легкая атлетика'!B9 -> 0 | D9: ='Легкая атлетика'!D9+Гимнастика!D9+Теория!D9 -> #DIV/0!
B10: ='Легкая атлетика'!A10 -> 0 | C10: ='Легкая атлетика'!B10 -> 0 | D10: ='Легкая атлетика'!D10+Гимнастика!D10+Теория!D10 -> #DIV/0!
B11: ='Легкая атлетика'!A11 -> 0 | C11: ='Легкая атлетика'!B11 -> 0 | D11: ='Легкая атлетика'!D11+Гимнастика!D11+Теория!D11 -> #DIV/0!
B12: ='Легкая атлетика'!A12 -> 0 | C12: ='Легкая атлетика'!B12 -> 0 | D12: ='Легкая атлетика'!D12+Гимнастика!D12+Теория!D12 -> #DIV/0!
B13: ='Легкая атлетика'!A13 -> 0 | C13: ='Легкая атлетика'!B13 -> 0 | D13: ='Легкая атлетика'!D13+Гимнастика!D13+Теория!D13 -> #DIV/0!
... B23: ='Легкая атлетика'!A23 -> 0 | C23: ='Легкая атлетика'!B23 -> 0 | D23: ='Легкая атлетика'!D23+Гимнастика!D23+Теория!D23 -> #DIV/0!
